BEGIN:VCALENDAR
VERSION:2.0
PRODID:-//Global Art Festival - ECPv5.10.0//NONSGML v1.0//EN
CALSCALE:GREGORIAN
METHOD:PUBLISH
X-WR-CALNAME:Global Art Festival
X-ORIGINAL-URL:https://www.globalartfestival.de
X-WR-CALDESC:Veranstaltungen für Global Art Festival
BEGIN:VTIMEZONE
TZID:Europe/Berlin
BEGIN:DAYLIGHT
TZOFFSETFROM:+0100
TZOFFSETTO:+0200
TZNAME:CEST
DTSTART:20220327T010000
END:DAYLIGHT
BEGIN:STANDARD
TZOFFSETFROM:+0200
TZOFFSETTO:+0100
TZNAME:CET
DTSTART:20221030T010000
END:STANDARD
END:VTIMEZONE
BEGIN:VEVENT
DTSTART;TZID=Europe/Berlin:20220108T160000
DTEND;TZID=Europe/Berlin:20220108T164000
DTSTAMP:20260421T104933
CREATED:20211108T103605Z
LAST-MODIFIED:20220105T134353Z
UID:6818-1641657600-1641660000@www.globalartfestival.de
SUMMARY:Soundperformance von Susanne Dundler und Theresa Hartmann
DESCRIPTION:Soundperformance von Susanne Dundler und Theresa Hartmann					\n						\n				\n				\n				\n					\n			\n		\n				\n				\n				\n						\n							\n					\n			\n							\n						\n				\n								\n				Die beiden Künstlerinnen vereint die Faszination für Klangstrukturen\, die sie in einer gemeinsamen Performance zum Ausdruck bringen. Dafür setzen sie die archetypischen Klänge der Tonflöten\, die historisch konnotierbar sind und den elektronischen Sound des Synthezisers\, der für die heutige Technisierung steht\, zueinander in Beziehung. Susanne Dundler ist Komponistin und Medienkünstlerin. Ihr Interesse gilt kollektiven und individuellen Handlungen\, insbesondere denjenigen\, die das soziale Subjekt mit Erwartungen und Formen des Bewusstseins konfrontieren. Dieser Fokus gibt ihr die Richtung für ihre künstlerischen Arbeiten vor\, die sie sowohl anhand von Klangforschung\, als auch in den Bereichen der elektroakustischen Komposition und auf dem Wege der freien Improvisation realisiert. Dafür erprobt sie iterativ Klangfelder\, die sich in a-musikalischen und dissonanten Sequenzen abbilden. Als Musikerin tritt sie auch unter dem Namen Kirsche von Bubach in Erscheinung. Theresa Hartmann studiert an der AdBK Nürnberg und ist Teil des Kollektivs DAF\, Dynamisch Akustische Forschung. Ihre Arbeit eruiert Prozesse von Formfindung. Anliegen ist stets ein feministisches\, ein Versuch\, Möglichkeiten von Existenzen zu suchen und zu erfinden. Sie spielt auf den Flöten\, welche über den Zeitraum der Ausstellung in ihrer Installation „umschlossene Luft“ still im Museum liegen. Sie geht dabei den Klängen der jeweiligen Formen nach\, schichtet sie übereinander und verfremdet sie. 					\n						\n				\n						\n					\n		\n								\n					\n		\n				\n				\n					\n			\n		\n				\n				\n				\n				\n					\n			\n						\n		\n				\n				\n				\n				\n					\n			\n		\n				\n				\n				\n						\n							\n					\n			\n							\n						\n				\n								\n				Dauer: ca. 40 MinutenKosten: Eintritt freiAvanti von Susanne DundlerUmschlossene Luft von Theresa Hartmann					\n						\n				\n						\n					\n		\n				\n			\n							\n						\n				\n			Ticket kaufen
URL:https://www.globalartfestival.de/event/soundperformance-von-susanne-dundler-und-theresa-hartmann/
ATTACH;FMTTYPE=image/jpeg:https://www.globalartfestival.de/wp-content/uploads/2021/11/dundler_hatmann.jpg
END:VEVENT
END:VCALENDAR